BEGIN:VCALENDAR
PRODID:-//eluceo/ical//2.0/EN
VERSION:2.0
CALSCALE:GREGORIAN
BEGIN:VEVENT
UID:b361dd4d54e09e9b718d04670f7484c0
DTSTAMP:20260422T191829Z
SUMMARY:Kehillah High April '19
DESCRIPTION:Jewish Federation of Central Massachusetts\nCalendar\nhttps://j
 ewishcentralmass.org/calendar/kehillah-high-april-19\n\nKehillah High Date
 s - Please verify class time with the Kehillah High Coordinator: ziva.ro
 senhand@gmail.com\n\nApr. 7th\n\nMay 5th (or maybe 22)
DTSTART;TZID=America/New_York:20190407T000000
DTEND;TZID=America/New_York:20190407T235500
END:VEVENT
END:VCALENDAR
