BEGIN:VCALENDAR
PRODID:-//eluceo/ical//2.0/EN
VERSION:2.0
CALSCALE:GREGORIAN
BEGIN:VEVENT
UID:f8afdadbe65f274018a084dc0143d53e
DTSTAMP:20260423T193729Z
SUMMARY:Juneteenth
DESCRIPTION:Jewish Federation of Central Massachusetts\nCalendar\nhttps://j
 ewishcentralmass.org/calendar/juneteenth\n\nJuneteenth
DTSTART;TZID=America/New_York:20250619T000000
DTEND;TZID=America/New_York:20250619T235959
END:VEVENT
END:VCALENDAR
