BEGIN:VCALENDAR
PRODID:-//eluceo/ical//2.0/EN
VERSION:2.0
CALSCALE:GREGORIAN
BEGIN:VEVENT
UID:9b47cee56575494083a1f0b3006fc5b1
DTSTAMP:20260422T202644Z
SUMMARY:July 4th
DESCRIPTION:Jewish Federation of Central Massachusetts\nCalendar\nhttps://j
 ewishcentralmass.org/calendar/july-4th\n\n4th of July
DTSTART;TZID=America/New_York:20340704T000000
DTEND;TZID=America/New_York:20340704T235959
END:VEVENT
END:VCALENDAR
