BEGIN:VCALENDAR
PRODID:-//eluceo/ical//2.0/EN
VERSION:2.0
CALSCALE:GREGORIAN
BEGIN:VEVENT
UID:3136898a7c8a36423f528bbc621b4d76
DTSTAMP:20260423T145126Z
SUMMARY:Joy Behar with Judy Gold
DESCRIPTION:Jewish Federation of Central Massachusetts\nCalendar\nhttps://j
 ewishcentralmass.org/calendar/joy-behar-with-judy-gold\n\nJoy Behar
DTSTART;TZID=America/New_York:20130312T193000
DTEND;TZID=America/New_York:20130312T200000
END:VEVENT
END:VCALENDAR
