BEGIN:VCALENDAR
PRODID:-//eluceo/ical//2.0/EN
VERSION:2.0
CALSCALE:GREGORIAN
BEGIN:VEVENT
UID:7225b54b5c1eaab06689c626be1f5c90
DTSTAMP:20260423T032345Z
SUMMARY:JHC Worcester to Beyond Bubbie's Kitchen
DESCRIPTION:Jewish Federation of Central Massachusetts\nCalendar\nhttps://j
 ewishcentralmass.org/calendar/jhc-worcester-to-beyond-bubbies-kitchen\n\nA
 re you hungry for something different? \n\nBoard a luxury motorcoach at th
 e Jewish Healthcare Center and enjoy a carefree ride to this exciting tast
 ing event!\n\nWe will leave the Jewish Healthcare Center at 4pm. Attend Be
 yond Bubbie's Kitchen in Boston. Return to the Jewish Healthcare Center at
  approx. 8:30pm. Your ticket includes transportation to/from event aboard 
 luxury motorcoach\, entry to Beyond Bubbie's Kitchen\, event gift bag\, an
 d driver gratuity.\n\n"Taste what happens when some of ...
DTSTART;TZID=America/New_York:20170226T160000
DTEND;TZID=America/New_York:20170226T203000
END:VEVENT
END:VCALENDAR
