BEGIN:VCALENDAR
PRODID:-//eluceo/ical//2.0/EN
VERSION:2.0
CALSCALE:GREGORIAN
BEGIN:VEVENT
UID:b9c77b36cb587b8dc8779582970c4372
DTSTAMP:20260423T142440Z
SUMMARY:JHC - Road Race and Family Fun Day
DESCRIPTION:Jewish Federation of Central Massachusetts\nCalendar\nhttps://j
 ewishcentralmass.org/calendar/jhc-road-race-and-family-fun-day\n\nJHC - Ro
 ad Race and Family Fun Day
DTSTART;TZID=America/New_York:20210926T100000
DTEND;TZID=America/New_York:20210926T140000
END:VEVENT
END:VCALENDAR
