BEGIN:VCALENDAR
PRODID:-//eluceo/ical//2.0/EN
VERSION:2.0
CALSCALE:GREGORIAN
BEGIN:VEVENT
UID:a114dc4d581ef563338ae2af0310ca24
DTSTAMP:20260421T010205Z
SUMMARY:JHC - Road Race 2026
DESCRIPTION:Jewish Federation of Central Massachusetts\nCalendar\nhttps://j
 ewishcentralmass.org/calendar/jhc-road-race-2026\n\nRoad Race – Sunday O
 ct. 4\, 2026 – at the JHC (parking will be busy)\n\n 
DTSTART;TZID=America/New_York:20261004T090000
DTEND;TZID=America/New_York:20261004T140000
END:VEVENT
END:VCALENDAR
