BEGIN:VCALENDAR
PRODID:-//eluceo/ical//2.0/EN
VERSION:2.0
CALSCALE:GREGORIAN
BEGIN:VEVENT
UID:2bd9ef4c78cce83052375e6e285814c9
DTSTAMP:20260421T184335Z
SUMMARY:JHC Road Race 2024
DESCRIPTION:Jewish Federation of Central Massachusetts\nCalendar\nhttps://j
 ewishcentralmass.org/calendar/jhc-road-race-2024\n\nJHC Roadrace\n\n10:00 
 am
DTSTART;TZID=America/New_York:20240929T100000
DTEND;TZID=America/New_York:20240929T120000
END:VEVENT
END:VCALENDAR
