BEGIN:VCALENDAR
PRODID:-//eluceo/ical//2.0/EN
VERSION:2.0
CALSCALE:GREGORIAN
BEGIN:VEVENT
UID:60e3251680b77c61aa9eb52858160149
DTSTAMP:20260425T112351Z
SUMMARY:JHC Road Race 2023
DESCRIPTION:Jewish Federation of Central Massachusetts\nCalendar\nhttps://j
 ewishcentralmass.org/calendar/jhc-road-race-2023\n\nJHC Road Race – Sund
 ay\, Sept. 10\, 2023 at the JHC – Join JHC Staff\, Friends and Family.
DTSTART;TZID=America/New_York:20230910T090000
DTEND;TZID=America/New_York:20230910T110000
END:VEVENT
END:VCALENDAR
