BEGIN:VCALENDAR
PRODID:-//eluceo/ical//2.0/EN
VERSION:2.0
CALSCALE:GREGORIAN
BEGIN:VEVENT
UID:7e5dfbdcc001accaec99c02d61990704
DTSTAMP:20260423T070925Z
SUMMARY:JHC Road Race 2022
DESCRIPTION:Jewish Federation of Central Massachusetts\nCalendar\nhttps://j
 ewishcentralmass.org/calendar/jhc-road-race-2022\n\nJHC Road Race\n\n9:00 
 am
DTSTART;TZID=America/New_York:20220918T090000
DTEND;TZID=America/New_York:20220918T110000
END:VEVENT
END:VCALENDAR
