BEGIN:VCALENDAR
PRODID:-//eluceo/ical//2.0/EN
VERSION:2.0
CALSCALE:GREGORIAN
BEGIN:VEVENT
UID:14de8da0d1383f415582cb5d47316c11
DTSTAMP:20260423T132201Z
SUMMARY:JHC - Road Race
DESCRIPTION:Jewish Federation of Central Massachusetts\nCalendar\nhttps://j
 ewishcentralmass.org/calendar/jhc-road-race\n\nJHC Road Race
DTSTART;TZID=America/New_York:20200913T000000
DTEND;TZID=America/New_York:20200913T235959
END:VEVENT
END:VCALENDAR
