BEGIN:VCALENDAR
PRODID:-//eluceo/ical//2.0/EN
VERSION:2.0
CALSCALE:GREGORIAN
BEGIN:VEVENT
UID:c9616d5f176f9f98cbbd768b152b4b4f
DTSTAMP:20260421T114321Z
SUMMARY:JHC - President's Club / Legacy Event at the JHC
DESCRIPTION:Jewish Federation of Central Massachusetts\nCalendar\nhttps://j
 ewishcentralmass.org/calendar/jhc-presidents-club-legacy-event-at-the-jhc\
 n\nSunday\, April 19 - President's Club / Legacy Event at JHC - Dinner & S
 inger 
DTSTART;TZID=America/New_York:20200419T180000
DTEND;TZID=America/New_York:20200419T210000
END:VEVENT
END:VCALENDAR
