BEGIN:VCALENDAR
PRODID:-//eluceo/ical//2.0/EN
VERSION:2.0
CALSCALE:GREGORIAN
BEGIN:VEVENT
UID:59428085c577471137337a4a76cb324b
DTSTAMP:20260420T230623Z
SUMMARY:JHC On the Move Team Alzheimers
DESCRIPTION:Jewish Federation of Central Massachusetts\nCalendar\nhttps://j
 ewishcentralmass.org/calendar/jhc-on-the-move-team-alzheimers\n\nJHC On th
 e Move Team Alzheimers
DTSTART;TZID=America/New_York:20221002T090000
DTEND;TZID=America/New_York:20221002T110000
END:VEVENT
END:VCALENDAR
