BEGIN:VCALENDAR
PRODID:-//eluceo/ical//2.0/EN
VERSION:2.0
CALSCALE:GREGORIAN
BEGIN:VEVENT
UID:073d85dc547bbe3fc226b772032e316e
DTSTAMP:20260421T170808Z
SUMMARY:JHC J+ Fin Comm 2022-23
DESCRIPTION:Jewish Federation of Central Massachusetts\nCalendar\nhttps://j
 ewishcentralmass.org/calendar/jhc-j-fin-comm-2022-23\n\nJHC J+ Fin Comm 20
 22-23\n\n7:30 pm
DTSTART;TZID=America/New_York:20220913T193000
DTEND;TZID=America/New_York:20220913T213000
END:VEVENT
END:VCALENDAR
