BEGIN:VCALENDAR
PRODID:-//eluceo/ical//2.0/EN
VERSION:2.0
CALSCALE:GREGORIAN
BEGIN:VEVENT
UID:f2f9f92a73acf2b9ab641d175620c46b
DTSTAMP:20260422T025250Z
SUMMARY:JHC Golf Tournament
DESCRIPTION:Jewish Federation of Central Massachusetts\nCalendar\nhttps://j
 ewishcentralmass.org/calendar/jhc-golf-tournament\n\nMonday\, October 19 -
  JHC Golf Tournament at Cyprian Keyes Golf Club
DTSTART;TZID=America/New_York:20201019T080000
DTEND;TZID=America/New_York:20201019T140000
END:VEVENT
END:VCALENDAR
