BEGIN:VCALENDAR
PRODID:-//eluceo/ical//2.0/EN
VERSION:2.0
CALSCALE:GREGORIAN
BEGIN:VEVENT
UID:47dcd5475e2a3d1fd76f52d0cf1f2cd0
DTSTAMP:20260424T231059Z
SUMMARY:JHC - Golf Classic
DESCRIPTION:Jewish Federation of Central Massachusetts\nCalendar\nhttps://j
 ewishcentralmass.org/calendar/jhc-golf-classic\n\nJHC - Golf Classic - Hav
 en Country Club
DTSTART;TZID=America/New_York:20210913T090000
DTEND;TZID=America/New_York:20210913T120000
END:VEVENT
END:VCALENDAR
