BEGIN:VCALENDAR
PRODID:-//eluceo/ical//2.0/EN
VERSION:2.0
CALSCALE:GREGORIAN
BEGIN:VEVENT
UID:a55668d8294edf856dfe4b6a86617bd0
DTSTAMP:20260422T041029Z
SUMMARY:JHC Finance Meeting 2024-2025 4
DESCRIPTION:Jewish Federation of Central Massachusetts\nCalendar\nhttps://j
 ewishcentralmass.org/calendar/jhc-finance-meeting-2024-2025-4\n\nJHC Finan
 ce Meeting 2024-2025\n\nMay 13 at 7:30 am
DTSTART;TZID=America/New_York:20250513T073000
DTEND;TZID=America/New_York:20250513T093000
END:VEVENT
END:VCALENDAR
