BEGIN:VCALENDAR
PRODID:-//eluceo/ical//2.0/EN
VERSION:2.0
CALSCALE:GREGORIAN
BEGIN:VEVENT
UID:1123a792595f5c2be0f677e468b04d51
DTSTAMP:20260423T040513Z
SUMMARY:JHC Finance Meeting 2024-2025 3
DESCRIPTION:Jewish Federation of Central Massachusetts\nCalendar\nhttps://j
 ewishcentralmass.org/calendar/jhc-finance-meeting-2024-2025-3\n\nJHC Finan
 ce Meeting 2024-2025\n\nMarch 18 at 7:30 am
DTSTART;TZID=America/New_York:20250318T073000
DTEND;TZID=America/New_York:20250318T093000
END:VEVENT
END:VCALENDAR
