BEGIN:VCALENDAR
PRODID:-//eluceo/ical//2.0/EN
VERSION:2.0
CALSCALE:GREGORIAN
BEGIN:VEVENT
UID:7784464952df9a0d6e9453a6ad84c3d3
DTSTAMP:20260422T042056Z
SUMMARY:JHC Finance Meeting 2024-2025 2
DESCRIPTION:Jewish Federation of Central Massachusetts\nCalendar\nhttps://j
 ewishcentralmass.org/calendar/jhc-finance-meeting-2024-2025-2\n\nJHC Finan
 ce Meeting 2024-2025\n\nNovember 26 at 7:30 am
DTSTART;TZID=America/New_York:20241126T073000
DTEND;TZID=America/New_York:20241126T093000
END:VEVENT
END:VCALENDAR
