BEGIN:VCALENDAR
PRODID:-//eluceo/ical//2.0/EN
VERSION:2.0
CALSCALE:GREGORIAN
BEGIN:VEVENT
UID:eb95c2a442560325d2c317d2f1496320
DTSTAMP:20260423T003105Z
SUMMARY:JHC Finance Meeting 2024-2025 1
DESCRIPTION:Jewish Federation of Central Massachusetts\nCalendar\nhttps://j
 ewishcentralmass.org/calendar/jhc-finance-meeting-2024-2025-1\n\nJHC Finan
 ce Meeting 2024-2025 \n\nSeptember 24 at 7:30 am
DTSTART;TZID=America/New_York:20240924T073000
DTEND;TZID=America/New_York:20240924T093000
END:VEVENT
END:VCALENDAR
