BEGIN:VCALENDAR
PRODID:-//eluceo/ical//2.0/EN
VERSION:2.0
CALSCALE:GREGORIAN
BEGIN:VEVENT
UID:0bb522c0c3efc9cdfc6b3f0fc76bad8f
DTSTAMP:20260423T085229Z
SUMMARY:JHC Finance Meeting 1
DESCRIPTION:Jewish Federation of Central Massachusetts\nCalendar\nhttps://j
 ewishcentralmass.org/calendar/jhc-finance-meeting-1\n\nJHC Finance Meeting
  \n\n7:30 am
DTSTART;TZID=America/New_York:20240514T073000
DTEND;TZID=America/New_York:20240514T093000
END:VEVENT
END:VCALENDAR
