BEGIN:VCALENDAR
PRODID:-//eluceo/ical//2.0/EN
VERSION:2.0
CALSCALE:GREGORIAN
BEGIN:VEVENT
UID:68244ff865d846c7d4964c97ed8f407b
DTSTAMP:20260424T052316Z
SUMMARY:JHC Finance Meeting
DESCRIPTION:Jewish Federation of Central Massachusetts\nCalendar\nhttps://j
 ewishcentralmass.org/calendar/jhc-finance-meeting\n\nJHC Finance Meeting\n
 \n7:30 am
DTSTART;TZID=America/New_York:20230919T073000
DTEND;TZID=America/New_York:20230919T093000
END:VEVENT
END:VCALENDAR
