BEGIN:VCALENDAR
PRODID:-//eluceo/ical//2.0/EN
VERSION:2.0
CALSCALE:GREGORIAN
BEGIN:VEVENT
UID:eb1cd0593f541724c9725325ce8d785c
DTSTAMP:20260423T095438Z
SUMMARY:JHC Fin Meeting
DESCRIPTION:Jewish Federation of Central Massachusetts\nCalendar\nhttps://j
 ewishcentralmass.org/calendar/jhc-fin-meeting\n\nJHC Fin Meeting
DTSTART;TZID=America/New_York:20201202T073000
DTEND;TZID=America/New_York:20201202T093000
END:VEVENT
END:VCALENDAR
