BEGIN:VCALENDAR
PRODID:-//eluceo/ical//2.0/EN
VERSION:2.0
CALSCALE:GREGORIAN
BEGIN:VEVENT
UID:0b13eb9708fff04d809eacfcf9515c8b
DTSTAMP:20260425T122436Z
SUMMARY:JHC Board Meeting - May
DESCRIPTION:Jewish Federation of Central Massachusetts\nCalendar\nhttps://j
 ewishcentralmass.org/calendar/jhc-board-meeting-may\n\nJHC Board Meeting
DTSTART;TZID=America/New_York:20210510T070000
DTEND;TZID=America/New_York:20210510T090000
END:VEVENT
END:VCALENDAR
