BEGIN:VCALENDAR
PRODID:-//eluceo/ical//2.0/EN
VERSION:2.0
CALSCALE:GREGORIAN
BEGIN:VEVENT
UID:fa89e52a285c2fa6548665925c448505
DTSTAMP:20260421T133435Z
SUMMARY:JHC Board Meeting - June
DESCRIPTION:Jewish Federation of Central Massachusetts\nCalendar\nhttps://j
 ewishcentralmass.org/calendar/jhc-board-meeting-june\n\nJHC Board Meeting
DTSTART;TZID=America/New_York:20210616T190000
DTEND;TZID=America/New_York:20210616T210000
END:VEVENT
END:VCALENDAR
