BEGIN:VCALENDAR
PRODID:-//eluceo/ical//2.0/EN
VERSION:2.0
CALSCALE:GREGORIAN
BEGIN:VEVENT
UID:cf16b3942fd4d31f09c6ca34ade735aa
DTSTAMP:20260424T114700Z
SUMMARY:JHC Board Meeting 2024-2025 4
DESCRIPTION:Jewish Federation of Central Massachusetts\nCalendar\nhttps://j
 ewishcentralmass.org/calendar/jhc-board-meeting-2024-2025-4\n\nJHC Board M
 eeting\n\nMay 19 at 7:00 pm
DTSTART;TZID=America/New_York:20250519T190000
DTEND;TZID=America/New_York:20250519T210000
END:VEVENT
END:VCALENDAR
