BEGIN:VCALENDAR
PRODID:-//eluceo/ical//2.0/EN
VERSION:2.0
CALSCALE:GREGORIAN
BEGIN:VEVENT
UID:74f2df0bf66f7a0886ef3c2d20134895
DTSTAMP:20260424T134755Z
SUMMARY:JHC Board Meeting 2024-2025 3
DESCRIPTION:Jewish Federation of Central Massachusetts\nCalendar\nhttps://j
 ewishcentralmass.org/calendar/jhc-board-meeting-2024-2025-3\n\nJHC Board M
 eeting\n\nMarch 24 at 7:00 pm
DTSTART;TZID=America/New_York:20250324T190000
DTEND;TZID=America/New_York:20250324T210000
END:VEVENT
END:VCALENDAR
