BEGIN:VCALENDAR
PRODID:-//eluceo/ical//2.0/EN
VERSION:2.0
CALSCALE:GREGORIAN
BEGIN:VEVENT
UID:185bfe13f1ea861bb7595ccfb758b40e
DTSTAMP:20260423T003958Z
SUMMARY:JHC Board Meeting 2024-2025 2
DESCRIPTION:Jewish Federation of Central Massachusetts\nCalendar\nhttps://j
 ewishcentralmass.org/calendar/jhc-board-meeting-2024-2025-2\n\nJHC Board M
 eeting \n\nDecember 2 at 7:00 pm
DTSTART;TZID=America/New_York:20241202T190000
DTEND;TZID=America/New_York:20241202T210000
END:VEVENT
END:VCALENDAR
