BEGIN:VCALENDAR
PRODID:-//eluceo/ical//2.0/EN
VERSION:2.0
CALSCALE:GREGORIAN
BEGIN:VEVENT
UID:2fe15926918ecc8687ed7ac739a28056
DTSTAMP:20260422T180138Z
SUMMARY:JHC Board Meeting 2024-2025 1
DESCRIPTION:Jewish Federation of Central Massachusetts\nCalendar\nhttps://j
 ewishcentralmass.org/calendar/jhc-board-meeting-2024-2025-1\n\nJHC Board M
 eeting\n\nSeptember 30 at 7:00 pm
DTSTART;TZID=America/New_York:20240930T190000
DTEND;TZID=America/New_York:20240930T210000
END:VEVENT
END:VCALENDAR
