BEGIN:VCALENDAR
PRODID:-//eluceo/ical//2.0/EN
VERSION:2.0
CALSCALE:GREGORIAN
BEGIN:VEVENT
UID:90b16d152a2b6ab2ead9e5f4073867b4
DTSTAMP:20260421T004954Z
SUMMARY:JHC Board Meeting 2023-2024 3
DESCRIPTION:Jewish Federation of Central Massachusetts\nCalendar\nhttps://j
 ewishcentralmass.org/calendar/jhc-board-meeting-2023-2024-3\n\nJHC Board M
 eeting\n\n7:00 pm
DTSTART;TZID=America/New_York:20240520T190000
DTEND;TZID=America/New_York:20240520T210000
END:VEVENT
END:VCALENDAR
