BEGIN:VCALENDAR
PRODID:-//eluceo/ical//2.0/EN
VERSION:2.0
CALSCALE:GREGORIAN
BEGIN:VEVENT
UID:44087a8fabd2ce5765424fd16b4b758c
DTSTAMP:20260421T202317Z
SUMMARY:JHC Board Meeting 2023-2024 2
DESCRIPTION:Jewish Federation of Central Massachusetts\nCalendar\nhttps://j
 ewishcentralmass.org/calendar/jhc-board-meeting-2023-2024-2\n\nJHC Board M
 eeting\n\n7:00 pm
DTSTART;TZID=America/New_York:20240325T190000
DTEND;TZID=America/New_York:20240325T210000
END:VEVENT
END:VCALENDAR
