BEGIN:VCALENDAR
PRODID:-//eluceo/ical//2.0/EN
VERSION:2.0
CALSCALE:GREGORIAN
BEGIN:VEVENT
UID:089eaa246869d393446782f447ce2947
DTSTAMP:20260423T105258Z
SUMMARY:JHC Board Meeting 2023-2024 1
DESCRIPTION:Jewish Federation of Central Massachusetts\nCalendar\nhttps://j
 ewishcentralmass.org/calendar/jhc-board-meeting-2023-2024-1\n\nJHC Board M
 eeting\n\n7:00 pm
DTSTART;TZID=America/New_York:20231002T190000
DTEND;TZID=America/New_York:20231002T210000
END:VEVENT
END:VCALENDAR
