BEGIN:VCALENDAR
PRODID:-//eluceo/ical//2.0/EN
VERSION:2.0
CALSCALE:GREGORIAN
BEGIN:VEVENT
UID:56525396f0a0e586ba603b7ebd3543ce
DTSTAMP:20260423T181039Z
SUMMARY:JHC Board Meeting 2022-23 4
DESCRIPTION:Jewish Federation of Central Massachusetts\nCalendar\nhttps://j
 ewishcentralmass.org/calendar/jhc-board-meeting-2022-23-4\n\nJHC Board Mee
 ting\n\n7:30 pm
DTSTART;TZID=America/New_York:20230522T193000
DTEND;TZID=America/New_York:20230522T213000
END:VEVENT
END:VCALENDAR
