BEGIN:VCALENDAR
PRODID:-//eluceo/ical//2.0/EN
VERSION:2.0
CALSCALE:GREGORIAN
BEGIN:VEVENT
UID:bb68488c5d6d6b2a9a9983985febf2b6
DTSTAMP:20260421T015424Z
SUMMARY:JHC Board Meeting 2022-23 3
DESCRIPTION:Jewish Federation of Central Massachusetts\nCalendar\nhttps://j
 ewishcentralmass.org/calendar/jhc-board-meeting-2022-23-3\n\nJHC Board Mee
 ting\n\n7:30 pm
DTSTART;TZID=America/New_York:20230327T193000
DTEND;TZID=America/New_York:20230327T213000
END:VEVENT
END:VCALENDAR
