BEGIN:VCALENDAR
PRODID:-//eluceo/ical//2.0/EN
VERSION:2.0
CALSCALE:GREGORIAN
BEGIN:VEVENT
UID:20dd12066b03055d0ecbc5f1fc465ff5
DTSTAMP:20260423T201827Z
SUMMARY:JHC Board Meeting 2022-23 2
DESCRIPTION:Jewish Federation of Central Massachusetts\nCalendar\nhttps://j
 ewishcentralmass.org/calendar/jhc-board-meeting-2022-23-2\n\nJHC Board Mee
 ting\n\n7:30 pm
DTSTART;TZID=America/New_York:20221228T193000
DTEND;TZID=America/New_York:20221228T213000
END:VEVENT
END:VCALENDAR
