BEGIN:VCALENDAR
PRODID:-//eluceo/ical//2.0/EN
VERSION:2.0
CALSCALE:GREGORIAN
BEGIN:VEVENT
UID:890f9f3827478cb2156cad16639416fb
DTSTAMP:20260422T023121Z
SUMMARY:JHC Board Meeting
DESCRIPTION:Jewish Federation of Central Massachusetts\nCalendar\nhttps://j
 ewishcentralmass.org/calendar/jhc-board-meeting\n\nJHC Board Meeting
DTSTART;TZID=America/New_York:20201207T193000
DTEND;TZID=America/New_York:20201207T213000
END:VEVENT
END:VCALENDAR
