BEGIN:VCALENDAR
PRODID:-//eluceo/ical//2.0/EN
VERSION:2.0
CALSCALE:GREGORIAN
BEGIN:VEVENT
UID:cc05335c0ca93863409a0f81437f6894
DTSTAMP:20260421T012932Z
SUMMARY:JHC - Berry Festival at Eisenberg
DESCRIPTION:Jewish Federation of Central Massachusetts\nCalendar\nhttps://j
 ewishcentralmass.org/calendar/jhc-berry-festival-at-eisenberg\n\nWednesday
 \, June 24 - Berry Festival at Eisenberg
DTSTART;TZID=America/New_York:20200624T100000
DTEND;TZID=America/New_York:20200624T180000
END:VEVENT
END:VCALENDAR
