BEGIN:VCALENDAR
PRODID:-//eluceo/ical//2.0/EN
VERSION:2.0
CALSCALE:GREGORIAN
BEGIN:VEVENT
UID:55223cdc74e9aedd65d5173c7cfae262
DTSTAMP:20260423T101612Z
SUMMARY:JHC Auxiliary Donor
DESCRIPTION:Jewish Federation of Central Massachusetts\nCalendar\nhttps://j
 ewishcentralmass.org/calendar/jhc-auxiliary-donor\n\nJHC Auxiliary Donor L
 uncheon with Comedian Linda Belt.\n\nSunday\, May 21\, 2023 at 11:30 am.
DTSTART;TZID=America/New_York:20230521T113000
DTEND;TZID=America/New_York:20230521T133000
END:VEVENT
END:VCALENDAR
