BEGIN:VCALENDAR
PRODID:-//eluceo/ical//2.0/EN
VERSION:2.0
CALSCALE:GREGORIAN
BEGIN:VEVENT
UID:47b957cac50a512e5cc237af22c50bf2
DTSTAMP:20260423T015353Z
SUMMARY:JHC Auxiliary Annual Donor Luncheon
DESCRIPTION:Jewish Federation of Central Massachusetts\nCalendar\nhttps://j
 ewishcentralmass.org/calendar/jhc-auxiliary-annual-donor-luncheon\n\nWedne
 sday\, September 30 - JHC Auxiliary Annual Donor Luncheon at 12:00 pm
DTSTART;TZID=America/New_York:20200930T120000
DTEND;TZID=America/New_York:20200930T140000
END:VEVENT
END:VCALENDAR
