BEGIN:VCALENDAR
PRODID:-//eluceo/ical//2.0/EN
VERSION:2.0
CALSCALE:GREGORIAN
BEGIN:VEVENT
UID:54fc0aa805542d2898722b4c0c0dc1c0
DTSTAMP:20260423T065402Z
SUMMARY:JHC Aux Fashion Show Luncheon 2025
DESCRIPTION:Jewish Federation of Central Massachusetts\nCalendar\nhttps://j
 ewishcentralmass.org/calendar/jhc-aux-fashion-show-luncheon-2025\n\nApril 
 2 at 12 pm\n\nJHC Aux Fashion Show Luncheon
DTSTART;TZID=America/New_York:20250402T120000
DTEND;TZID=America/New_York:20250402T140000
END:VEVENT
END:VCALENDAR
