BEGIN:VCALENDAR
PRODID:-//eluceo/ical//2.0/EN
VERSION:2.0
CALSCALE:GREGORIAN
BEGIN:VEVENT
UID:a2995521f9424c53b4fd21352d9d1d24
DTSTAMP:20260422T003044Z
SUMMARY:JHC Annual Meeting 2024
DESCRIPTION:Jewish Federation of Central Massachusetts\nCalendar\nhttps://j
 ewishcentralmass.org/calendar/jhc-annual-meeting-2024\n\nJHC Annual Meetin
 g\n\n5:30 pm
DTSTART;TZID=America/New_York:20240619T173000
DTEND;TZID=America/New_York:20240619T193000
END:VEVENT
END:VCALENDAR
