BEGIN:VCALENDAR
PRODID:-//eluceo/ical//2.0/EN
VERSION:2.0
CALSCALE:GREGORIAN
BEGIN:VEVENT
UID:8abfd74cb10d930bb5b26c3c8d29f601
DTSTAMP:20260424T052357Z
SUMMARY:JHCC Annual Meeting 2023
DESCRIPTION:Jewish Federation of Central Massachusetts\nCalendar\nhttps://j
 ewishcentralmass.org/calendar/jhc-annual-meeting-2023\n\nAnnual Meeting at
  JHC Dinner at the JHC Auditorium\n\nWed.\, June 21\, 5:00 p.m. 
DTSTART;TZID=America/New_York:20230621T170000
DTEND;TZID=America/New_York:20230621T190000
END:VEVENT
END:VCALENDAR
