BEGIN:VCALENDAR
PRODID:-//eluceo/ical//2.0/EN
VERSION:2.0
CALSCALE:GREGORIAN
BEGIN:VEVENT
UID:794a849f71456c57beb83bf6ba0adc61
DTSTAMP:20260423T211138Z
SUMMARY:JHC Annual Meeting
DESCRIPTION:Jewish Federation of Central Massachusetts\nCalendar\nhttps://j
 ewishcentralmass.org/calendar/jhc-annual-meeting\n\nJHC Annual Meeting
DTSTART;TZID=America/New_York:20220615T190000
DTEND;TZID=America/New_York:20220615T210000
END:VEVENT
END:VCALENDAR
