BEGIN:VCALENDAR
PRODID:-//eluceo/ical//2.0/EN
VERSION:2.0
CALSCALE:GREGORIAN
BEGIN:VEVENT
UID:b63ff861405da26ad73b9dde0fdcc730
DTSTAMP:20260423T015403Z
SUMMARY:JHC 49th Annual Golf Tournament
DESCRIPTION:Jewish Federation of Central Massachusetts\nCalendar\nhttps://j
 ewishcentralmass.org/calendar/jhc-49th-annual-golf-tournament\n\nJHC 49th 
 Annual Golf Tournament\n\n10:00 am\n\nThe Haven Country Club\, Boylston\, 
 MA
DTSTART;TZID=America/New_York:20240923T100000
DTEND;TZID=America/New_York:20240923T150000
END:VEVENT
END:VCALENDAR
