BEGIN:VCALENDAR
PRODID:-//eluceo/ical//2.0/EN
VERSION:2.0
CALSCALE:GREGORIAN
BEGIN:VEVENT
UID:0f09761cd4f0b23b677c2cae5b3951ff
DTSTAMP:20260424T021116Z
SUMMARY:JFLM Bd Meeting
DESCRIPTION:Jewish Federation of Central Massachusetts\nCalendar\nhttps://j
 ewishcentralmass.org/calendar/jflm-bd-meeting\n\nJFLM Bd\n\n7:30 pm
DTSTART;TZID=America/New_York:20230228T193000
DTEND;TZID=America/New_York:20230228T213000
END:VEVENT
END:VCALENDAR
