BEGIN:VCALENDAR
PRODID:-//eluceo/ical//2.0/EN
VERSION:2.0
CALSCALE:GREGORIAN
BEGIN:VEVENT
UID:9aea3fe7de4d98a438a55e6d3db9deb8
DTSTAMP:20260422T121719Z
SUMMARY:JFED’s LEAD at Worcester City Hall
DESCRIPTION:Jewish Federation of Central Massachusetts\nCalendar\nhttps://j
 ewishcentralmass.org/calendar/jfeds-lead-at-worcester-city-hall\n\nMarch 2
 4th:  JFED’s LEAD at Worcester City Hall\, 10:30 am-12:00 pm
DTSTART;TZID=America/New_York:20190324T103000
DTEND;TZID=America/New_York:20190324T120000
END:VEVENT
END:VCALENDAR
