BEGIN:VCALENDAR
PRODID:-//eluceo/ical//2.0/EN
VERSION:2.0
CALSCALE:GREGORIAN
BEGIN:VEVENT
UID:74b785334899f2c3b7c416c643d636de
DTSTAMP:20260421T081219Z
SUMMARY:JFED/L&L Virtual Wine Tasting
DESCRIPTION:Jewish Federation of Central Massachusetts\nCalendar\nhttps://j
 ewishcentralmass.org/calendar/jfedll-virtual-wine-tasting\n\nThe Legacy of
  the Grape A Community-Wide pre-Passover Virtual Wine Tasting\n\nSunday\, 
 March 14th\, 6:30 pm - 8:00 pm\n\nJoin us for a fun evening learning about
  and tasting Passover wines\, hosted by Brad du Plessis\, Lead Wine Consul
 tant of KosherWines.com. All participants will be mailed a box which will 
 contain three distinct\, full bottles of wine from three different countri
 es. Limit one order per household please. 
DTSTART;TZID=America/New_York:20210314T183000
DTEND;TZID=America/New_York:20210314T200000
END:VEVENT
END:VCALENDAR
