BEGIN:VCALENDAR
PRODID:-//eluceo/ical//2.0/EN
VERSION:2.0
CALSCALE:GREGORIAN
BEGIN:VEVENT
UID:a4ca757e1fbd0400ca31f8ccde4af997
DTSTAMP:20260422T225931Z
SUMMARY:JFED Young Adult Division and UMass Med JewMass Joint Shabbat Dinne
 r
DESCRIPTION:Jewish Federation of Central Massachusetts\nCalendar\nhttps://j
 ewishcentralmass.org/calendar/jfed-young-adult-division-and-umass-med-jewm
 ass-joint-shabbat-dinner\n\nJFED Young Adult Division and UMass Med JewMas
 s Joint Shabbat Dinner\n\n6:45 pm\n\nRSVP for location
DTSTART;TZID=America/New_York:20240503T184500
DTEND;TZID=America/New_York:20240503T204500
END:VEVENT
END:VCALENDAR
