BEGIN:VCALENDAR
PRODID:-//eluceo/ical//2.0/EN
VERSION:2.0
CALSCALE:GREGORIAN
BEGIN:VEVENT
UID:7905c7a2aaf8d76c22313d327afdab2d
DTSTAMP:20260423T072748Z
SUMMARY:JF&CS Meeting
DESCRIPTION:Jewish Federation of Central Massachusetts\nCalendar\nhttps://j
 ewishcentralmass.org/calendar/jfcs-meeting\n\nJF&CS Meeting
DTSTART;TZID=America/New_York:20141204T173000
DTEND;TZID=America/New_York:20141204T210000
END:VEVENT
END:VCALENDAR
