BEGIN:VCALENDAR
PRODID:-//eluceo/ical//2.0/EN
VERSION:2.0
CALSCALE:GREGORIAN
BEGIN:VEVENT
UID:5322b49110ac9d53692168f3c69d0751
DTSTAMP:20260422T014340Z
SUMMARY:JFCM Young Emissary Welcome Reception for Chen & Matan
DESCRIPTION:Jewish Federation of Central Massachusetts\nCalendar\nhttps://j
 ewishcentralmass.org/calendar/jfcm-young-emissary-welcome-reception-for-ch
 en-matan\n\nJFCM Young Emissary Welcome Reception for Chen & Matan
DTSTART;TZID=America/New_York:20180904T193000
DTEND;TZID=America/New_York:20180904T210000
END:VEVENT
END:VCALENDAR
